BEGIN:VCALENDAR
VERSION:2.0
PRODID:-//Bozeman Spiritual Society - ECPv6.15.20//NONSGML v1.0//EN
CALSCALE:GREGORIAN
METHOD:PUBLISH
X-WR-CALNAME:Bozeman Spiritual Society
X-ORIGINAL-URL:https://bozemanspiritualsociety.org
X-WR-CALDESC:Events for Bozeman Spiritual Society
REFRESH-INTERVAL;VALUE=DURATION:PT1H
X-Robots-Tag:noindex
X-PUBLISHED-TTL:PT1H
BEGIN:VTIMEZONE
TZID:America/Denver
BEGIN:DAYLIGHT
TZOFFSETFROM:-0700
TZOFFSETTO:-0600
TZNAME:MDT
DTSTART:20240310T090000
END:DAYLIGHT
BEGIN:STANDARD
TZOFFSETFROM:-0600
TZOFFSETTO:-0700
TZNAME:MST
DTSTART:20241103T080000
END:STANDARD
BEGIN:DAYLIGHT
TZOFFSETFROM:-0700
TZOFFSETTO:-0600
TZNAME:MDT
DTSTART:20250309T090000
END:DAYLIGHT
BEGIN:STANDARD
TZOFFSETFROM:-0600
TZOFFSETTO:-0700
TZNAME:MST
DTSTART:20251102T080000
END:STANDARD
BEGIN:DAYLIGHT
TZOFFSETFROM:-0700
TZOFFSETTO:-0600
TZNAME:MDT
DTSTART:20260308T090000
END:DAYLIGHT
BEGIN:STANDARD
TZOFFSETFROM:-0600
TZOFFSETTO:-0700
TZNAME:MST
DTSTART:20261101T080000
END:STANDARD
END:VTIMEZONE
BEGIN:VEVENT
DTSTART;TZID=America/Denver:20250720T190000
DTEND;TZID=America/Denver:20250720T210000
DTSTAMP:20260419T113123
CREATED:20250718T134402Z
LAST-MODIFIED:20250718T141644Z
UID:558-1753038000-1753045200@bozemanspiritualsociety.org
SUMMARY:Chakradance
DESCRIPTION:7-9 PM – One Night Only – Dance into your chakras with Chakradance. Jim is offering a free event to introduce you to Chakradance\, a healing movement modality that combines still meditation\, dance\, mandala art\, and a little sharing. It requires no knowledge of chakras or of dancing. With your eyes closed or gently lowered and guided facilitation\, you discover your own experience with the chakras\, gaining valuable insight into how balanced or out of balance different energetic aspects of yourself are. \nPlease consider joining us.  One request is that you show up on time to the Bozeman Spiritual Society room (2100 Fairway Dr.) on time – as doors close at 7. (meet in the building’s lobby) \nIf you are interested in knowing more\, check out Jim’s Chakradance website. If you are planning on coming\, please send Jim an email to jsmacdonaldjr@gmail.com\, as space is potentially limited. \nJim is a licensed Chakradance facilitator.
URL:https://bozemanspiritualsociety.org/event/chakradance/
LOCATION:Bozeman Spiritual Society\, 2100 Fairway Dr\, Room 102\, Bozeman\, MT\, 59715\, United States
CATEGORIES:Workshop
ATTACH;FMTTYPE=image/jpeg:https://bozemanspiritualsociety.org/wp-content/uploads/2025/07/chakradance_07202025-e1752845741277.jpg
ORGANIZER;CN="Jim Macdonald":MAILTO:jsmacdonaldjr@gmail.com
END:VEVENT
END:VCALENDAR