BEGIN:VCALENDAR
VERSION:2.0
PRODID:-//Bozeman Spiritual Society - ECPv6.15.20//NONSGML v1.0//EN
CALSCALE:GREGORIAN
METHOD:PUBLISH
X-ORIGINAL-URL:https://bozemanspiritualsociety.org
X-WR-CALDESC:Events for Bozeman Spiritual Society
REFRESH-INTERVAL;VALUE=DURATION:PT1H
X-Robots-Tag:noindex
X-PUBLISHED-TTL:PT1H
BEGIN:VTIMEZONE
TZID:America/Denver
BEGIN:DAYLIGHT
TZOFFSETFROM:-0700
TZOFFSETTO:-0600
TZNAME:MDT
DTSTART:20240310T090000
END:DAYLIGHT
BEGIN:STANDARD
TZOFFSETFROM:-0600
TZOFFSETTO:-0700
TZNAME:MST
DTSTART:20241103T080000
END:STANDARD
BEGIN:DAYLIGHT
TZOFFSETFROM:-0700
TZOFFSETTO:-0600
TZNAME:MDT
DTSTART:20250309T090000
END:DAYLIGHT
BEGIN:STANDARD
TZOFFSETFROM:-0600
TZOFFSETTO:-0700
TZNAME:MST
DTSTART:20251102T080000
END:STANDARD
BEGIN:DAYLIGHT
TZOFFSETFROM:-0700
TZOFFSETTO:-0600
TZNAME:MDT
DTSTART:20260308T090000
END:DAYLIGHT
BEGIN:STANDARD
TZOFFSETFROM:-0600
TZOFFSETTO:-0700
TZNAME:MST
DTSTART:20261101T080000
END:STANDARD
END:VTIMEZONE
BEGIN:VEVENT
DTSTART;TZID=America/Denver:20250804T180000
DTEND;TZID=America/Denver:20250804T200000
DTSTAMP:20260421T152335
CREATED:20250715T195751Z
LAST-MODIFIED:20250719T175554Z
UID:543-1754330400-1754337600@bozemanspiritualsociety.org
SUMMARY:Let's Play with Intuition
DESCRIPTION:Let’s Play with Intuition \nAugust 4\, 6-8PM \nRegular Group Intuitive Practice and Development \nThis will be a series of ongoing intuitive development that focuses on the foundational skills to develop your intuition to read for yourself and others.These are in-person groups that meet at the Bozeman Spiritual Society (2100 Fairway Dr.\, Rm. 102).Email etherictide@gmail.com to secure your spot.
URL:https://bozemanspiritualsociety.org/event/lets-play-with-intuition-2/
LOCATION:Bozeman Spiritual Society\, 2100 Fairway Dr\, Room 102\, Bozeman\, MT\, 59715\, United States
CATEGORIES:Workshop
ATTACH;FMTTYPE=image/jpeg:https://bozemanspiritualsociety.org/wp-content/uploads/2025/07/signal-2025-07-19-113953-e1752947681786.jpeg
ORGANIZER;CN="Lauren Sietzema":MAILTO:etherictide@gmail.com
END:VEVENT
BEGIN:VEVENT
DTSTART;TZID=America/Denver:20250825T180000
DTEND;TZID=America/Denver:20250825T200000
DTSTAMP:20260421T152335
CREATED:20250726T203417Z
LAST-MODIFIED:20250726T203417Z
UID:690-1756144800-1756152000@bozemanspiritualsociety.org
SUMMARY:Let's Play with Intuition
DESCRIPTION:Let’s Play with Intuition \nAugust 25 \, 6-8PM (and every other Monday) \nRegular Group Intuitive Practice and Development \nThis will be a series of ongoing intuitive development that focuses on the foundational skills to develop your intuition to read for yourself and others.These are in-person groups that meet at the Bozeman Spiritual Society (2100 Fairway Dr.\, Rm. 102).Email etherictide@gmail.com to secure your spot.
URL:https://bozemanspiritualsociety.org/event/lets-play-with-intuition-3/
LOCATION:Bozeman Spiritual Society\, 2100 Fairway Dr\, Room 102\, Bozeman\, MT\, 59715\, United States
CATEGORIES:Workshop
ATTACH;FMTTYPE=image/jpeg:https://bozemanspiritualsociety.org/wp-content/uploads/2025/07/signal-2025-07-19-113953-e1752947681786.jpeg
ORGANIZER;CN="Lauren Sietzema":MAILTO:etherictide@gmail.com
END:VEVENT
END:VCALENDAR