BEGIN:VCALENDAR
VERSION:2.0
PRODID:-//Bozeman Spiritual Society - ECPv6.15.20//NONSGML v1.0//EN
CALSCALE:GREGORIAN
METHOD:PUBLISH
X-ORIGINAL-URL:https://bozemanspiritualsociety.org
X-WR-CALDESC:Events for Bozeman Spiritual Society
REFRESH-INTERVAL;VALUE=DURATION:PT1H
X-Robots-Tag:noindex
X-PUBLISHED-TTL:PT1H
BEGIN:VTIMEZONE
TZID:America/Denver
BEGIN:DAYLIGHT
TZOFFSETFROM:-0700
TZOFFSETTO:-0600
TZNAME:MDT
DTSTART:20250309T090000
END:DAYLIGHT
BEGIN:STANDARD
TZOFFSETFROM:-0600
TZOFFSETTO:-0700
TZNAME:MST
DTSTART:20251102T080000
END:STANDARD
BEGIN:DAYLIGHT
TZOFFSETFROM:-0700
TZOFFSETTO:-0600
TZNAME:MDT
DTSTART:20260308T090000
END:DAYLIGHT
BEGIN:STANDARD
TZOFFSETFROM:-0600
TZOFFSETTO:-0700
TZNAME:MST
DTSTART:20261101T080000
END:STANDARD
BEGIN:DAYLIGHT
TZOFFSETFROM:-0700
TZOFFSETTO:-0600
TZNAME:MDT
DTSTART:20270314T090000
END:DAYLIGHT
BEGIN:STANDARD
TZOFFSETFROM:-0600
TZOFFSETTO:-0700
TZNAME:MST
DTSTART:20271107T080000
END:STANDARD
END:VTIMEZONE
BEGIN:VEVENT
DTSTART;TZID=America/Denver:20260304T090000
DTEND;TZID=America/Denver:20260304T100000
DTSTAMP:20260419T094531
CREATED:20260213T182200Z
LAST-MODIFIED:20260213T182200Z
UID:881-1772614800-1772618400@bozemanspiritualsociety.org
SUMMARY:Feminine Activation Class
DESCRIPTION:Feminine Activation Class (9-10AM every Wednesday) \n\nAn Embodied Journey into Feminine Awakening \nStep into a sacred space of connection\, authenticity\, and awakening. The Feminine Activation Class is a mini-ceremonial experience designed to ignite your inner fire\, honor your personal journey\, and awaken the sensual\, creative energy that resides in your womb and heart. \nIn this intimate class\, we’ll begin by co-creating sacred space and grounding into presence. Through the ritual of the “Rose Share\,” each woman will be invited to speak her thorn (current challenge)\, bud (what is emerging)\, and blossom (what is flourishing)—a practice that fosters vulnerability\, reflection\, and community. \nFrom there\, we’ll move into somatic practices to activate the sacral chakra and stir the kundalini life force within. These gentle yet powerful movements\, breathwork\, and energetic activations are designed to reconnect you with your body’s wisdom\, sensuality\, and vitality. \nWe’ll complete with a closing share and integration\, sealing of the space with gratitude. \nThis class is for any woman seeking deeper embodiment\, emotional release\, sisterhood\, and a rekindling of her feminine power. \nCome as you are—leave more of who you are. \n🜃 Location: Bozeman Spiritual Society\, 2100 Fairway Drive\, #102\, Bozeman\n🕖 Time: Wednesdays from 9-10am\n🌀 Bring: Comfortable clothing\, water\, a journal\, and an open heart
URL:https://bozemanspiritualsociety.org/event/feminine-activation-class-21/
LOCATION:Bozeman Spiritual Society\, 2100 Fairway Dr\, Room 102\, Bozeman\, MT\, 59715\, United States
CATEGORIES:Workshop
ATTACH;FMTTYPE=image/jpeg:https://bozemanspiritualsociety.org/wp-content/uploads/2025/12/femineactivation-e1766154230637.jpg
END:VEVENT
BEGIN:VEVENT
DTSTART;TZID=America/Denver:20260304T180000
DTEND;TZID=America/Denver:20260304T200000
DTSTAMP:20260419T094532
CREATED:20260213T175348Z
LAST-MODIFIED:20260213T175348Z
UID:867-1772647200-1772654400@bozemanspiritualsociety.org
SUMMARY:Vocal Alchemy: The Intersection of Science\, Soul\, and Song
DESCRIPTION:Wednesdays 6-8pm $20 Mar 4th \n____________________________________ \nVocal Alchemy: The Intersection of Science\, Soul\, and Song\nDon’t worry\, you don’t have to be able to “sing” to enjoy this class \nWhat if your voice could help you heal?  \nMost of us use our voices to communicate with the world\, but we rarely use them to heal ourselves. Join us for our weekly gathering\, Vocal Alchemy\, where we bridge the gap between ancient wisdom and modern physics to create a space of profound transformation. \nThe Science: Healing at the Cellular Level \nWe don’t just “hear” sound\, we absorb it. Because the human body is approximately 70% water\, sound waves travel through us with incredible efficiency. \nThrough the power of Vocal Entrainment\, we use specific frequencies to: \n\nReset the Nervous System: Chanting and humming stimulate the Vagus Nerve\, instantly signaling your body to move from “stress mode” into “healing mode.”\nCellular Reorganization: Think of sound as a microscopic massage. These vibrations help “shake loose” stagnant energy and tension stored in your tissues.\nBrainwave Harmony: Our practice helps shift your brain into Alpha and Theta states—the “sweet spot” of neuroplasticity where deep emotional healing occurs.\n\nThe Soul: A Sacred Return\nBeyond biology\, there is the Spirit. This workshop is a sanctuary for those looking to reconnect with their inner landscape. Through guided breathwork and deep meditation\, we create a “Sacred Container” where you are safe to: \n\nRelease the weight of the week and the “noise” of the world.\nListen to the whispers of your intuition.\nManifest through clear\, vocalized intention.\n\nThe Joy: Connection & Community \nHealing doesn’t always have to be heavy. There is a primal\, infectious joy that happens when humans gather to breathe and make music together. \n\nNo “Good Voices” Required: This isn’t a choir; it’s a vibration. Whether you’re a seasoned singer or a shower-hummer\, your unique frequency is a vital piece of our collective puzzle.\nLike-Minded Souls: Connect with a tribe that values growth\, authenticity\, and the beauty of the “unplugged” human experience.\n\nCome prepared to breathe deep\, laugh often\, and vibrate higher. \nYou can show your interest directly via website\, message on Facebook or email etherictide@gmail.com
URL:https://bozemanspiritualsociety.org/event/vocal-alchemy-the-intersection-of-science-soul-and-song-2/
LOCATION:Bozeman Spiritual Society\, 2100 Fairway Dr\, Room 102\, Bozeman\, MT\, 59715\, United States
CATEGORIES:Workshop
ATTACH;FMTTYPE=image/jpeg:https://bozemanspiritualsociety.org/wp-content/uploads/2026/02/signal-2026-02-11-17-59-46-849-e1770997880736.jpg
ORGANIZER;CN="Lauren Sietzema":MAILTO:etherictide@gmail.com
END:VEVENT
BEGIN:VEVENT
DTSTART;TZID=America/Denver:20260311T090000
DTEND;TZID=America/Denver:20260311T100000
DTSTAMP:20260419T094532
CREATED:20260213T182508Z
LAST-MODIFIED:20260213T182508Z
UID:883-1773219600-1773223200@bozemanspiritualsociety.org
SUMMARY:Feminine Activation Class
DESCRIPTION:Feminine Activation Class (9-10AM every Wednesday) \n\nAn Embodied Journey into Feminine Awakening \nStep into a sacred space of connection\, authenticity\, and awakening. The Feminine Activation Class is a mini-ceremonial experience designed to ignite your inner fire\, honor your personal journey\, and awaken the sensual\, creative energy that resides in your womb and heart. \nIn this intimate class\, we’ll begin by co-creating sacred space and grounding into presence. Through the ritual of the “Rose Share\,” each woman will be invited to speak her thorn (current challenge)\, bud (what is emerging)\, and blossom (what is flourishing)—a practice that fosters vulnerability\, reflection\, and community. \nFrom there\, we’ll move into somatic practices to activate the sacral chakra and stir the kundalini life force within. These gentle yet powerful movements\, breathwork\, and energetic activations are designed to reconnect you with your body’s wisdom\, sensuality\, and vitality. \nWe’ll complete with a closing share and integration\, sealing of the space with gratitude. \nThis class is for any woman seeking deeper embodiment\, emotional release\, sisterhood\, and a rekindling of her feminine power. \nCome as you are—leave more of who you are. \n🜃 Location: Bozeman Spiritual Society\, 2100 Fairway Drive\, #102\, Bozeman\n🕖 Time: Wednesdays from 9-10am\n🌀 Bring: Comfortable clothing\, water\, a journal\, and an open heart
URL:https://bozemanspiritualsociety.org/event/feminine-activation-class-22/
LOCATION:Bozeman Spiritual Society\, 2100 Fairway Dr\, Room 102\, Bozeman\, MT\, 59715\, United States
ATTACH;FMTTYPE=image/jpeg:https://bozemanspiritualsociety.org/wp-content/uploads/2025/12/femineactivation-e1766154230637.jpg
END:VEVENT
BEGIN:VEVENT
DTSTART;TZID=America/Denver:20260311T180000
DTEND;TZID=America/Denver:20260311T200000
DTSTAMP:20260419T094532
CREATED:20260213T180031Z
LAST-MODIFIED:20260213T180031Z
UID:870-1773252000-1773259200@bozemanspiritualsociety.org
SUMMARY:Vocal Alchemy: The Intersection of Science\, Soul\, and Song
DESCRIPTION:Wednesdays 6-8pm $20 Mar 11th \n____________________________________ \nVocal Alchemy: The Intersection of Science\, Soul\, and Song\nDon’t worry\, you don’t have to be able to “sing” to enjoy this class \nWhat if your voice could help you heal?  \nMost of us use our voices to communicate with the world\, but we rarely use them to heal ourselves. Join us for our weekly gathering\, Vocal Alchemy\, where we bridge the gap between ancient wisdom and modern physics to create a space of profound transformation. \nThe Science: Healing at the Cellular Level \nWe don’t just “hear” sound\, we absorb it. Because the human body is approximately 70% water\, sound waves travel through us with incredible efficiency. \nThrough the power of Vocal Entrainment\, we use specific frequencies to: \n\nReset the Nervous System: Chanting and humming stimulate the Vagus Nerve\, instantly signaling your body to move from “stress mode” into “healing mode.”\nCellular Reorganization: Think of sound as a microscopic massage. These vibrations help “shake loose” stagnant energy and tension stored in your tissues.\nBrainwave Harmony: Our practice helps shift your brain into Alpha and Theta states—the “sweet spot” of neuroplasticity where deep emotional healing occurs.\n\nThe Soul: A Sacred Return\nBeyond biology\, there is the Spirit. This workshop is a sanctuary for those looking to reconnect with their inner landscape. Through guided breathwork and deep meditation\, we create a “Sacred Container” where you are safe to: \n\nRelease the weight of the week and the “noise” of the world.\nListen to the whispers of your intuition.\nManifest through clear\, vocalized intention.\n\nThe Joy: Connection & Community \nHealing doesn’t always have to be heavy. There is a primal\, infectious joy that happens when humans gather to breathe and make music together. \n\nNo “Good Voices” Required: This isn’t a choir; it’s a vibration. Whether you’re a seasoned singer or a shower-hummer\, your unique frequency is a vital piece of our collective puzzle.\nLike-Minded Souls: Connect with a tribe that values growth\, authenticity\, and the beauty of the “unplugged” human experience.\n\nCome prepared to breathe deep\, laugh often\, and vibrate higher. \nYou can show your interest directly via website\, message on Facebook or email etherictide@gmail.com
URL:https://bozemanspiritualsociety.org/event/vocal-alchemy-the-intersection-of-science-soul-and-song-3/
LOCATION:Bozeman Spiritual Society\, 2100 Fairway Dr\, Room 102\, Bozeman\, MT\, 59715\, United States
CATEGORIES:Workshop
ATTACH;FMTTYPE=image/jpeg:https://bozemanspiritualsociety.org/wp-content/uploads/2026/02/signal-2026-02-11-17-59-46-849-e1770997880736.jpg
ORGANIZER;CN="Lauren Sietzema":MAILTO:etherictide@gmail.com
END:VEVENT
BEGIN:VEVENT
DTSTART;TZID=America/Denver:20260318T180000
DTEND;TZID=America/Denver:20260318T200000
DTSTAMP:20260419T094532
CREATED:20260213T180548Z
LAST-MODIFIED:20260213T180548Z
UID:872-1773856800-1773864000@bozemanspiritualsociety.org
SUMMARY:Vocal Alchemy: The Intersection of Science\, Soul\, and Song
DESCRIPTION:Wednesdays 6-8pm $20 Mar 18th \n____________________________________ \nVocal Alchemy: The Intersection of Science\, Soul\, and Song\nDon’t worry\, you don’t have to be able to “sing” to enjoy this class \nWhat if your voice could help you heal?  \nMost of us use our voices to communicate with the world\, but we rarely use them to heal ourselves. Join us for our weekly gathering\, Vocal Alchemy\, where we bridge the gap between ancient wisdom and modern physics to create a space of profound transformation. \nThe Science: Healing at the Cellular Level \nWe don’t just “hear” sound\, we absorb it. Because the human body is approximately 70% water\, sound waves travel through us with incredible efficiency. \nThrough the power of Vocal Entrainment\, we use specific frequencies to: \n\nReset the Nervous System: Chanting and humming stimulate the Vagus Nerve\, instantly signaling your body to move from “stress mode” into “healing mode.”\nCellular Reorganization: Think of sound as a microscopic massage. These vibrations help “shake loose” stagnant energy and tension stored in your tissues.\nBrainwave Harmony: Our practice helps shift your brain into Alpha and Theta states—the “sweet spot” of neuroplasticity where deep emotional healing occurs.\n\nThe Soul: A Sacred Return\nBeyond biology\, there is the Spirit. This workshop is a sanctuary for those looking to reconnect with their inner landscape. Through guided breathwork and deep meditation\, we create a “Sacred Container” where you are safe to: \n\nRelease the weight of the week and the “noise” of the world.\nListen to the whispers of your intuition.\nManifest through clear\, vocalized intention.\n\nThe Joy: Connection & Community \nHealing doesn’t always have to be heavy. There is a primal\, infectious joy that happens when humans gather to breathe and make music together. \n\nNo “Good Voices” Required: This isn’t a choir; it’s a vibration. Whether you’re a seasoned singer or a shower-hummer\, your unique frequency is a vital piece of our collective puzzle.\nLike-Minded Souls: Connect with a tribe that values growth\, authenticity\, and the beauty of the “unplugged” human experience.\n\nCome prepared to breathe deep\, laugh often\, and vibrate higher. \nYou can show your interest directly via website\, message on Facebook or email etherictide@gmail.com
URL:https://bozemanspiritualsociety.org/event/vocal-alchemy-the-intersection-of-science-soul-and-song-4/
LOCATION:Bozeman Spiritual Society\, 2100 Fairway Dr\, Room 102\, Bozeman\, MT\, 59715\, United States
CATEGORIES:Workshop
ATTACH;FMTTYPE=image/jpeg:https://bozemanspiritualsociety.org/wp-content/uploads/2026/02/signal-2026-02-11-17-59-46-849-e1770997880736.jpg
ORGANIZER;CN="Lauren Sietzema":MAILTO:etherictide@gmail.com
END:VEVENT
BEGIN:VEVENT
DTSTART;TZID=America/Denver:20260325T090000
DTEND;TZID=America/Denver:20260325T100000
DTSTAMP:20260419T094532
CREATED:20260213T183146Z
LAST-MODIFIED:20260213T183146Z
UID:887-1774429200-1774432800@bozemanspiritualsociety.org
SUMMARY:Feminine Activation Class
DESCRIPTION:Feminine Activation Class (9-10AM every Wednesday) \n\nAn Embodied Journey into Feminine Awakening \nStep into a sacred space of connection\, authenticity\, and awakening. The Feminine Activation Class is a mini-ceremonial experience designed to ignite your inner fire\, honor your personal journey\, and awaken the sensual\, creative energy that resides in your womb and heart. \nIn this intimate class\, we’ll begin by co-creating sacred space and grounding into presence. Through the ritual of the “Rose Share\,” each woman will be invited to speak her thorn (current challenge)\, bud (what is emerging)\, and blossom (what is flourishing)—a practice that fosters vulnerability\, reflection\, and community. \nFrom there\, we’ll move into somatic practices to activate the sacral chakra and stir the kundalini life force within. These gentle yet powerful movements\, breathwork\, and energetic activations are designed to reconnect you with your body’s wisdom\, sensuality\, and vitality. \nWe’ll complete with a closing share and integration\, sealing of the space with gratitude. \nThis class is for any woman seeking deeper embodiment\, emotional release\, sisterhood\, and a rekindling of her feminine power. \nCome as you are—leave more of who you are. \n🜃 Location: Bozeman Spiritual Society\, 2100 Fairway Drive\, #102\, Bozeman\n Time: Wednesdays from 9-10am\n Bring: Comfortable clothing\, water\, a journal\, and an open heart
URL:https://bozemanspiritualsociety.org/event/feminine-activation-class-24/
LOCATION:Bozeman Spiritual Society\, 2100 Fairway Dr\, Room 102\, Bozeman\, MT\, 59715\, United States
CATEGORIES:Workshop
ATTACH;FMTTYPE=image/jpeg:https://bozemanspiritualsociety.org/wp-content/uploads/2025/12/femineactivation-e1766154230637.jpg
END:VEVENT
BEGIN:VEVENT
DTSTART;TZID=America/Denver:20260325T180000
DTEND;TZID=America/Denver:20260325T200000
DTSTAMP:20260419T094532
CREATED:20260213T180850Z
LAST-MODIFIED:20260213T180850Z
UID:874-1774461600-1774468800@bozemanspiritualsociety.org
SUMMARY:Vocal Alchemy: The Intersection of Science\, Soul\, and Song
DESCRIPTION:Wednesdays 6-8pm $20 Mar 25th \n____________________________________ \nVocal Alchemy: The Intersection of Science\, Soul\, and Song\nDon’t worry\, you don’t have to be able to “sing” to enjoy this class \nWhat if your voice could help you heal?  \nMost of us use our voices to communicate with the world\, but we rarely use them to heal ourselves. Join us for our weekly gathering\, Vocal Alchemy\, where we bridge the gap between ancient wisdom and modern physics to create a space of profound transformation. \nThe Science: Healing at the Cellular Level \nWe don’t just “hear” sound\, we absorb it. Because the human body is approximately 70% water\, sound waves travel through us with incredible efficiency. \nThrough the power of Vocal Entrainment\, we use specific frequencies to: \n\nReset the Nervous System: Chanting and humming stimulate the Vagus Nerve\, instantly signaling your body to move from “stress mode” into “healing mode.”\nCellular Reorganization: Think of sound as a microscopic massage. These vibrations help “shake loose” stagnant energy and tension stored in your tissues.\nBrainwave Harmony: Our practice helps shift your brain into Alpha and Theta states—the “sweet spot” of neuroplasticity where deep emotional healing occurs.\n\nThe Soul: A Sacred Return\nBeyond biology\, there is the Spirit. This workshop is a sanctuary for those looking to reconnect with their inner landscape. Through guided breathwork and deep meditation\, we create a “Sacred Container” where you are safe to: \n\nRelease the weight of the week and the “noise” of the world.\nListen to the whispers of your intuition.\nManifest through clear\, vocalized intention.\n\nThe Joy: Connection & Community \nHealing doesn’t always have to be heavy. There is a primal\, infectious joy that happens when humans gather to breathe and make music together. \n\nNo “Good Voices” Required: This isn’t a choir; it’s a vibration. Whether you’re a seasoned singer or a shower-hummer\, your unique frequency is a vital piece of our collective puzzle.\nLike-Minded Souls: Connect with a tribe that values growth\, authenticity\, and the beauty of the “unplugged” human experience.\n\nCome prepared to breathe deep\, laugh often\, and vibrate higher. \nYou can show your interest directly via website\, message on Facebook or email etherictide@gmail.com
URL:https://bozemanspiritualsociety.org/event/vocal-alchemy-the-intersection-of-science-soul-and-song-5/
LOCATION:Bozeman Spiritual Society\, 2100 Fairway Dr\, Room 102\, Bozeman\, MT\, 59715\, United States
CATEGORIES:Workshop
ATTACH;FMTTYPE=image/jpeg:https://bozemanspiritualsociety.org/wp-content/uploads/2026/02/signal-2026-02-11-17-59-46-849-e1770997880736.jpg
ORGANIZER;CN="Lauren Sietzema":MAILTO:etherictide@gmail.com
END:VEVENT
END:VCALENDAR