BEGIN:VCALENDAR
VERSION:2.0
PRODID:-//Bozeman Spiritual Society - ECPv6.15.20//NONSGML v1.0//EN
CALSCALE:GREGORIAN
METHOD:PUBLISH
X-WR-CALNAME:Bozeman Spiritual Society
X-ORIGINAL-URL:https://bozemanspiritualsociety.org
X-WR-CALDESC:Events for Bozeman Spiritual Society
REFRESH-INTERVAL;VALUE=DURATION:PT1H
X-Robots-Tag:noindex
X-PUBLISHED-TTL:PT1H
BEGIN:VTIMEZONE
TZID:America/Denver
BEGIN:DAYLIGHT
TZOFFSETFROM:-0700
TZOFFSETTO:-0600
TZNAME:MDT
DTSTART:20240310T090000
END:DAYLIGHT
BEGIN:STANDARD
TZOFFSETFROM:-0600
TZOFFSETTO:-0700
TZNAME:MST
DTSTART:20241103T080000
END:STANDARD
BEGIN:DAYLIGHT
TZOFFSETFROM:-0700
TZOFFSETTO:-0600
TZNAME:MDT
DTSTART:20250309T090000
END:DAYLIGHT
BEGIN:STANDARD
TZOFFSETFROM:-0600
TZOFFSETTO:-0700
TZNAME:MST
DTSTART:20251102T080000
END:STANDARD
BEGIN:DAYLIGHT
TZOFFSETFROM:-0700
TZOFFSETTO:-0600
TZNAME:MDT
DTSTART:20260308T090000
END:DAYLIGHT
BEGIN:STANDARD
TZOFFSETFROM:-0600
TZOFFSETTO:-0700
TZNAME:MST
DTSTART:20261101T080000
END:STANDARD
END:VTIMEZONE
BEGIN:VEVENT
DTSTART;TZID=America/Denver:20251102T183000
DTEND;TZID=America/Denver:20251102T203000
DTSTAMP:20260419T164918
CREATED:20250906T210055Z
LAST-MODIFIED:20250906T210055Z
UID:741-1762108200-1762115400@bozemanspiritualsociety.org
SUMMARY:Women's Red Tent Cacao Ceremony: Honoring All Souls Day
DESCRIPTION:🌑Sunday\, November 2 · 6:30–8:30 PM\nA sacred evening of remembrance\, release\, and reverence.\nJoin us in the Red Tent as we honor All Souls Day—a time when the veil between worlds thins and we are invited to connect with our ancestors\, our grief\, and the sacred cycles of life and death. \nThis ceremony will gently guide you through the process of honoring those who have passed—whether loved ones\, parts of yourself\, or dreams that have transitioned. Through cacao\, breathwork\, and sisterhood\, we open to the healing power of presence. \n\nHealing Focus: Heart-Centered Breathwork – A powerful somatic practice to support emotional release\, nervous system regulation\, and heart healing.\n\nYou’ll be held in a space of deep compassion and ceremony\, where every feeling is welcome and nothing needs to be fixed—only witnessed. \nWhat’s Included: \n\nCacao ceremony & guided intention setting\nBreathwork for grief\, softness & heart-opening\nRose sharing circle (thorn\, bud\, blossom)\nRitual remembrance for those who have passed\nIntegration & sacred closing\n\n\n🕯 This is a sanctuary for your soul. Come grieve\, celebrate\, remember—and reconnect with what matters most. \n Cost: $25 suggested \n📍 Bozeman Spiritual Society | 2100 Fairway Drive\, #102\n⭐️Registration: https://forms.gle/2NQxy8uRLpLbKtVH6
URL:https://bozemanspiritualsociety.org/event/womens-red-tent-cacao-ceremony-honoring-all-souls-day/
LOCATION:Bozeman Spiritual Society\, 2100 Fairway Dr\, Room 102\, Bozeman\, MT\, 59715\, United States
CATEGORIES:Cacao Ceremony,Workshop
ATTACH;FMTTYPE=image/jpeg:https://bozemanspiritualsociety.org/wp-content/uploads/2025/09/Womens-Red-Tent-e1757191974455.jpg
END:VEVENT
BEGIN:VEVENT
DTSTART;TZID=America/Denver:20251105T090000
DTEND;TZID=America/Denver:20251105T100000
DTSTAMP:20260419T164918
CREATED:20250906T203803Z
LAST-MODIFIED:20250906T203803Z
UID:724-1762333200-1762336800@bozemanspiritualsociety.org
SUMMARY:Feminine Activation Class
DESCRIPTION:Feminine Activation Class (9-10AM every Wednesday) \n\nAn Embodied Journey into Feminine Awakening \nStep into a sacred space of connection\, authenticity\, and awakening. The Feminine Activation Class is a mini-ceremonial experience designed to ignite your inner fire\, honor your personal journey\, and awaken the sensual\, creative energy that resides in your womb and heart. \nIn this intimate class\, we’ll begin by co-creating sacred space and grounding into presence. Through the ritual of the “Rose Share\,” each woman will be invited to speak her thorn (current challenge)\, bud (what is emerging)\, and blossom (what is flourishing)—a practice that fosters vulnerability\, reflection\, and community. \nFrom there\, we’ll move into somatic practices to activate the sacral chakra and stir the kundalini life force within. These gentle yet powerful movements\, breathwork\, and energetic activations are designed to reconnect you with your body’s wisdom\, sensuality\, and vitality. \nWe’ll complete with a closing share and integration\, sealing of the space with gratitude. \nThis class is for any woman seeking deeper embodiment\, emotional release\, sisterhood\, and a rekindling of her feminine power. \nCome as you are—leave more of who you are. \n🜃 Location: Bozeman Spiritual Society\, 2100 Fairway Drive\, #102\, Bozeman\n🕖 Time: Wednesdays from 9-10am\n🌀 Bring: Comfortable clothing\, water\, a journal\, and an open heart
URL:https://bozemanspiritualsociety.org/event/feminine-activation-class-6/
LOCATION:Bozeman Spiritual Society\, 2100 Fairway Dr\, Room 102\, Bozeman\, MT\, 59715\, United States
CATEGORIES:Workshop
ATTACH;FMTTYPE=image/jpeg:https://bozemanspiritualsociety.org/wp-content/uploads/2025/07/Feminine-Activation-e1753559857975.jpg
END:VEVENT
BEGIN:VEVENT
DTSTART;TZID=America/Denver:20251119T080000
DTEND;TZID=America/Denver:20251119T170000
DTSTAMP:20260419T164918
CREATED:20250906T204214Z
LAST-MODIFIED:20250906T204214Z
UID:728-1763539200-1763571600@bozemanspiritualsociety.org
SUMMARY:Feminine Activation Class
DESCRIPTION:Feminine Activation Class (9-10AM every Wednesday) \n\nAn Embodied Journey into Feminine Awakening \nStep into a sacred space of connection\, authenticity\, and awakening. The Feminine Activation Class is a mini-ceremonial experience designed to ignite your inner fire\, honor your personal journey\, and awaken the sensual\, creative energy that resides in your womb and heart. \nIn this intimate class\, we’ll begin by co-creating sacred space and grounding into presence. Through the ritual of the “Rose Share\,” each woman will be invited to speak her thorn (current challenge)\, bud (what is emerging)\, and blossom (what is flourishing)—a practice that fosters vulnerability\, reflection\, and community. \nFrom there\, we’ll move into somatic practices to activate the sacral chakra and stir the kundalini life force within. These gentle yet powerful movements\, breathwork\, and energetic activations are designed to reconnect you with your body’s wisdom\, sensuality\, and vitality. \nWe’ll complete with a closing share and integration\, sealing of the space with gratitude. \nThis class is for any woman seeking deeper embodiment\, emotional release\, sisterhood\, and a rekindling of her feminine power. \nCome as you are—leave more of who you are. \n🜃 Location: Bozeman Spiritual Society\, 2100 Fairway Drive\, #102\, Bozeman\n🕖 Time: Wednesdays from 9-10am\n🌀 Bring: Comfortable clothing\, water\, a journal\, and an open heart
URL:https://bozemanspiritualsociety.org/event/feminine-activation-class-8/
LOCATION:Bozeman Spiritual Society\, 2100 Fairway Dr\, Room 102\, Bozeman\, MT\, 59715\, United States
CATEGORIES:Workshop
ATTACH;FMTTYPE=image/jpeg:https://bozemanspiritualsociety.org/wp-content/uploads/2025/07/Feminine-Activation-e1753559857975.jpg
END:VEVENT
BEGIN:VEVENT
DTSTART;TZID=America/Denver:20251126T090000
DTEND;TZID=America/Denver:20251126T100000
DTSTAMP:20260419T164918
CREATED:20250906T204408Z
LAST-MODIFIED:20250906T204408Z
UID:730-1764147600-1764151200@bozemanspiritualsociety.org
SUMMARY:Feminine Activation Class
DESCRIPTION:Feminine Activation Class (9-10AM every Wednesday) \n\nAn Embodied Journey into Feminine Awakening \nStep into a sacred space of connection\, authenticity\, and awakening. The Feminine Activation Class is a mini-ceremonial experience designed to ignite your inner fire\, honor your personal journey\, and awaken the sensual\, creative energy that resides in your womb and heart. \nIn this intimate class\, we’ll begin by co-creating sacred space and grounding into presence. Through the ritual of the “Rose Share\,” each woman will be invited to speak her thorn (current challenge)\, bud (what is emerging)\, and blossom (what is flourishing)—a practice that fosters vulnerability\, reflection\, and community. \nFrom there\, we’ll move into somatic practices to activate the sacral chakra and stir the kundalini life force within. These gentle yet powerful movements\, breathwork\, and energetic activations are designed to reconnect you with your body’s wisdom\, sensuality\, and vitality. \nWe’ll complete with a closing share and integration\, sealing of the space with gratitude. \nThis class is for any woman seeking deeper embodiment\, emotional release\, sisterhood\, and a rekindling of her feminine power. \nCome as you are—leave more of who you are. \n🜃 Location: Bozeman Spiritual Society\, 2100 Fairway Drive\, #102\, Bozeman\n🕖 Time: Wednesdays from 9-10am\n🌀 Bring: Comfortable clothing\, water\, a journal\, and an open heart
URL:https://bozemanspiritualsociety.org/event/feminine-activation-class-9/
LOCATION:Bozeman Spiritual Society\, 2100 Fairway Dr\, Room 102\, Bozeman\, MT\, 59715\, United States
CATEGORIES:Workshop
ATTACH;FMTTYPE=image/jpeg:https://bozemanspiritualsociety.org/wp-content/uploads/2025/07/Feminine-Activation-e1753559857975.jpg
END:VEVENT
END:VCALENDAR