BEGIN:VCALENDAR
VERSION:2.0
PRODID:-//Bozeman Spiritual Society - ECPv6.15.20//NONSGML v1.0//EN
CALSCALE:GREGORIAN
METHOD:PUBLISH
X-WR-CALNAME:Bozeman Spiritual Society
X-ORIGINAL-URL:https://bozemanspiritualsociety.org
X-WR-CALDESC:Events for Bozeman Spiritual Society
REFRESH-INTERVAL;VALUE=DURATION:PT1H
X-Robots-Tag:noindex
X-PUBLISHED-TTL:PT1H
BEGIN:VTIMEZONE
TZID:America/Denver
BEGIN:DAYLIGHT
TZOFFSETFROM:-0700
TZOFFSETTO:-0600
TZNAME:MDT
DTSTART:20240310T090000
END:DAYLIGHT
BEGIN:STANDARD
TZOFFSETFROM:-0600
TZOFFSETTO:-0700
TZNAME:MST
DTSTART:20241103T080000
END:STANDARD
BEGIN:DAYLIGHT
TZOFFSETFROM:-0700
TZOFFSETTO:-0600
TZNAME:MDT
DTSTART:20250309T090000
END:DAYLIGHT
BEGIN:STANDARD
TZOFFSETFROM:-0600
TZOFFSETTO:-0700
TZNAME:MST
DTSTART:20251102T080000
END:STANDARD
BEGIN:DAYLIGHT
TZOFFSETFROM:-0700
TZOFFSETTO:-0600
TZNAME:MDT
DTSTART:20260308T090000
END:DAYLIGHT
BEGIN:STANDARD
TZOFFSETFROM:-0600
TZOFFSETTO:-0700
TZNAME:MST
DTSTART:20261101T080000
END:STANDARD
END:VTIMEZONE
BEGIN:VEVENT
DTSTART;TZID=America/Denver:20251001T090000
DTEND;TZID=America/Denver:20251001T100000
DTSTAMP:20260419T184208
CREATED:20250906T203056Z
LAST-MODIFIED:20250906T203056Z
UID:714-1759309200-1759312800@bozemanspiritualsociety.org
SUMMARY:Feminine Activation Class
DESCRIPTION:Feminine Activation Class (9-10AM every Wednesday) \n\nAn Embodied Journey into Feminine Awakening \nStep into a sacred space of connection\, authenticity\, and awakening. The Feminine Activation Class is a mini-ceremonial experience designed to ignite your inner fire\, honor your personal journey\, and awaken the sensual\, creative energy that resides in your womb and heart. \nIn this intimate class\, we’ll begin by co-creating sacred space and grounding into presence. Through the ritual of the “Rose Share\,” each woman will be invited to speak her thorn (current challenge)\, bud (what is emerging)\, and blossom (what is flourishing)—a practice that fosters vulnerability\, reflection\, and community. \nFrom there\, we’ll move into somatic practices to activate the sacral chakra and stir the kundalini life force within. These gentle yet powerful movements\, breathwork\, and energetic activations are designed to reconnect you with your body’s wisdom\, sensuality\, and vitality. \nWe’ll complete with a closing share and integration\, sealing of the space with gratitude. \nThis class is for any woman seeking deeper embodiment\, emotional release\, sisterhood\, and a rekindling of her feminine power. \nCome as you are—leave more of who you are. \n🜃 Location: Bozeman Spiritual Society\, 2100 Fairway Drive\, #102\, Bozeman\n🕖 Time: Wednesdays from 9-10am\n🌀 Bring: Comfortable clothing\, water\, a journal\, and an open heart
URL:https://bozemanspiritualsociety.org/event/feminine-activation-class/
LOCATION:Bozeman Spiritual Society\, 2100 Fairway Dr\, Room 102\, Bozeman\, MT\, 59715\, United States
CATEGORIES:Workshop
ATTACH;FMTTYPE=image/jpeg:https://bozemanspiritualsociety.org/wp-content/uploads/2025/07/Feminine-Activation-e1753559857975.jpg
END:VEVENT
BEGIN:VEVENT
DTSTART;TZID=America/Denver:20251003T190000
DTEND;TZID=America/Denver:20251003T210000
DTSTAMP:20260419T184208
CREATED:20250920T225835Z
LAST-MODIFIED:20250920T230840Z
UID:755-1759518000-1759525200@bozemanspiritualsociety.org
SUMMARY:Tantra Date Night: The 3 Keys For a Sacred Sex Life
DESCRIPTION:Friday\, October 3\, 2025\n\n\n\n7-9PM\, Bozeman Spiritual Society\, 2100 Fairway Drive #102  \n\n\n\nAn Experiential Evening of Breath\, Movement\, and Sound \n\n💸 Cost: $25 Suggested Contribution \n\n\n\n \n✨ For: Couples\, Friends\, Solos (and all who respect boundaries) \n\n\n \n\n🧘‍♀️ Bring: Comfortable clothing\, water\, a journal\, and an open heart \n\nRSVP 🙂 \n\n\n\n\n\n\n\n \n\n\n\n\n\nDownload PDF flyer \n\n\n\n\n\n\n\nTantra Date Night\n\n\n\nThe 3 Keys For a Sacred Sex Life\n\n\n\n \nFacilitated by Christine Renee and Jim Macdonald \n\n\n \nAn Experiential Evening of Breath\, Movement\, and Sound \n\n\n\nStep into a heart-centered\, judgment-free space where sacred connection begins—with yourself and others. Tantra Date Night is a playful\, soulful\, and powerful in-person experience designed to introduce the 3 Keys of Tantra—Breath\, Movement\, and Sound—in a way that’s accessible\, embodied\, and deeply nourishing. \n\n\n \nWhether you’re solo\, partnered\, or bringing a friend\, this evening invites you to explore intimacy and energetic connection in a respectful\, non-sexual container. All are welcome—as long as respect\, curiosity\, and healthy boundaries are honored. \n\n\n \nWhat to Expect: \n\n\n \n✨ Opening Sacred Space and Heart Salutation \n\n\n \n✨ A brief intro to Tantra and the 3 Keys \n\n\n \n✨ Guided somatic experiences in breath\, movement\, and sound \n\n\n \n✨ Connection practices to deepen self-awareness and presence \n\n\n \n✨ Gentle partner or group practices (with consent always honored) \n\n\n \n✨ Closing integration\, journaling\, and heart-centered reflection \n\n\n \nWhether you’re just Tantra-curious or seeking deeper intimacy in your life\, Tantra Date Night offers a taste of what’s possible when you awaken to the sacred within and between.\n\n\n \n✨ This event also offers a sneak peek of our upcoming 5-Week Online Masterclass: Creating a Sacred Sex Life Through the 3 Keys of Tantra (details soon\, offered through Christine’s Moon Rising Shamanic Institute) \n\n\n \nWe can’t wait to welcome you into this sacred space. (Keep scrolling a little to register :)) \n\n\n\n\n\n\n\n \n\n\n\n \n\n 
URL:https://bozemanspiritualsociety.org/event/tantra-date-night-the-3-keys-for-a-sacred-sex-life/
LOCATION:Bozeman Spiritual Society\, 2100 Fairway Dr\, Room 102\, Bozeman\, MT\, 59715\, United States
CATEGORIES:Social,Workshop
ATTACH;FMTTYPE=image/jpeg:https://bozemanspiritualsociety.org/wp-content/uploads/2025/09/Tanta-Date-Night-10-3-2025-e1758408993235.jpg
ORGANIZER;CN="Christine Renee and Jim Macdonald":MAILTO:jsmacdonaldjr@gmail.com
END:VEVENT
BEGIN:VEVENT
DTSTART;TZID=America/Denver:20251007T190000
DTEND;TZID=America/Denver:20251007T200000
DTSTAMP:20260419T184208
CREATED:20250926T215251Z
LAST-MODIFIED:20250926T215251Z
UID:771-1759863600-1759867200@bozemanspiritualsociety.org
SUMMARY:Traditional Reiki Meditation & Chanting
DESCRIPTION:Dates: October 7th & (also October 14th)\n Time: 7:00 PM – 8:00 PM \nFacilitated by Christine Renee\, Reiki Master Teacher since 2004\n \nJoin us for a peaceful evening of Traditional Reiki Meditation & Chanting\, where we gather in a heart-centered space to connect with the healing energy of Reiki. This class is a meditative journey rooted in traditional Japanese Reiki practices\, open to all spiritual seekers\, regardless of Reiki training or experience. \nWe will begin with Gassho Meditation\, the practice of bringing the two hands together at the heart center to cultivate presence\, gratitude\, and inner stillness. With gentle guidance\, we’ll move into energy-aware breathwork\, allowing participants to attune to the subtle flow of Reiki through breath and awareness. \nThe session will deepen through the chanting of the Reiki Precepts and Reiki Symbols\, powerful vibrational practices that align the body\, mind\, and spirit with universal life energy. Whether you chant along or simply listen\, you are welcome to absorb the healing resonance. \nThis sacred hour offers a space for grounding\, reflection\, and quiet connection. Even simply sitting in the presence of the group energy and receiving the vibrations of the chanting can be deeply restorative and uplifting. \nAll are welcome—no Reiki experience necessary. Come as you are and allow yourself to rest\, realign\, and receive \nLocation: Bozeman Spiritual Society: 2100 Fairway Drive\, Ste 102 \nEnergy Exchange: $15 suggested donation
URL:https://bozemanspiritualsociety.org/event/traditional-reiki-meditation-chanting/
LOCATION:Bozeman Spiritual Society\, 2100 Fairway Dr\, Room 102\, Bozeman\, MT\, 59715\, United States
CATEGORIES:Workshop
ATTACH;FMTTYPE=image/jpeg:https://bozemanspiritualsociety.org/wp-content/uploads/2025/09/traditionalreii-e1758923066145.jpg
END:VEVENT
BEGIN:VEVENT
DTSTART;TZID=America/Denver:20251008T090000
DTEND;TZID=America/Denver:20251008T100000
DTSTAMP:20260419T184208
CREATED:20250906T203209Z
LAST-MODIFIED:20250906T203209Z
UID:716-1759914000-1759917600@bozemanspiritualsociety.org
SUMMARY:Feminine Activation Class
DESCRIPTION:Feminine Activation Class (9-10AM every Wednesday) \n\nAn Embodied Journey into Feminine Awakening \nStep into a sacred space of connection\, authenticity\, and awakening. The Feminine Activation Class is a mini-ceremonial experience designed to ignite your inner fire\, honor your personal journey\, and awaken the sensual\, creative energy that resides in your womb and heart. \nIn this intimate class\, we’ll begin by co-creating sacred space and grounding into presence. Through the ritual of the “Rose Share\,” each woman will be invited to speak her thorn (current challenge)\, bud (what is emerging)\, and blossom (what is flourishing)—a practice that fosters vulnerability\, reflection\, and community. \nFrom there\, we’ll move into somatic practices to activate the sacral chakra and stir the kundalini life force within. These gentle yet powerful movements\, breathwork\, and energetic activations are designed to reconnect you with your body’s wisdom\, sensuality\, and vitality. \nWe’ll complete with a closing share and integration\, sealing of the space with gratitude. \nThis class is for any woman seeking deeper embodiment\, emotional release\, sisterhood\, and a rekindling of her feminine power. \nCome as you are—leave more of who you are. \n🜃 Location: Bozeman Spiritual Society\, 2100 Fairway Drive\, #102\, Bozeman\n🕖 Time: Wednesdays from 9-10am\n🌀 Bring: Comfortable clothing\, water\, a journal\, and an open heart
URL:https://bozemanspiritualsociety.org/event/feminine-activation-class-2/
LOCATION:Bozeman Spiritual Society\, 2100 Fairway Dr\, Room 102\, Bozeman\, MT\, 59715\, United States
CATEGORIES:Workshop
ATTACH;FMTTYPE=image/jpeg:https://bozemanspiritualsociety.org/wp-content/uploads/2025/07/Feminine-Activation-e1753559857975.jpg
END:VEVENT
BEGIN:VEVENT
DTSTART;TZID=America/Denver:20251014T190000
DTEND;TZID=America/Denver:20251014T200000
DTSTAMP:20260419T184208
CREATED:20250926T215255Z
LAST-MODIFIED:20250926T215255Z
UID:772-1760468400-1760472000@bozemanspiritualsociety.org
SUMMARY:
DESCRIPTION:Date: October 14th\n Time: 7:00 PM – 8:00 PM \nFacilitated by Christine Renee\, Reiki Master Teacher since 2004\n \nJoin us for a peaceful evening of Traditional Reiki Meditation & Chanting\, where we gather in a heart-centered space to connect with the healing energy of Reiki. This class is a meditative journey rooted in traditional Japanese Reiki practices\, open to all spiritual seekers\, regardless of Reiki training or experience. \nWe will begin with Gassho Meditation\, the practice of bringing the two hands together at the heart center to cultivate presence\, gratitude\, and inner stillness. With gentle guidance\, we’ll move into energy-aware breathwork\, allowing participants to attune to the subtle flow of Reiki through breath and awareness. \nThe session will deepen through the chanting of the Reiki Precepts and Reiki Symbols\, powerful vibrational practices that align the body\, mind\, and spirit with universal life energy. Whether you chant along or simply listen\, you are welcome to absorb the healing resonance. \nThis sacred hour offers a space for grounding\, reflection\, and quiet connection. Even simply sitting in the presence of the group energy and receiving the vibrations of the chanting can be deeply restorative and uplifting. \nAll are welcome—no Reiki experience necessary. Come as you are and allow yourself to rest\, realign\, and receive \nLocation: Bozeman Spiritual Society: 2100 Fairway Drive\, Ste 102 \nEnergy Exchange: $15 suggested donation
URL:https://bozemanspiritualsociety.org/event/772/
LOCATION:Bozeman Spiritual Society\, 2100 Fairway Dr\, Room 102\, Bozeman\, MT\, 59715\, United States
CATEGORIES:Workshop
ATTACH;FMTTYPE=image/jpeg:https://bozemanspiritualsociety.org/wp-content/uploads/2025/09/traditionalreii-e1758923066145.jpg
END:VEVENT
BEGIN:VEVENT
DTSTART;TZID=America/Denver:20251022T090000
DTEND;TZID=America/Denver:20251022T100000
DTSTAMP:20260419T184208
CREATED:20250906T203429Z
LAST-MODIFIED:20250906T203429Z
UID:720-1761123600-1761127200@bozemanspiritualsociety.org
SUMMARY:Feminine Activation Class
DESCRIPTION:Feminine Activation Class (9-10AM every Wednesday) \n\nAn Embodied Journey into Feminine Awakening \nStep into a sacred space of connection\, authenticity\, and awakening. The Feminine Activation Class is a mini-ceremonial experience designed to ignite your inner fire\, honor your personal journey\, and awaken the sensual\, creative energy that resides in your womb and heart. \nIn this intimate class\, we’ll begin by co-creating sacred space and grounding into presence. Through the ritual of the “Rose Share\,” each woman will be invited to speak her thorn (current challenge)\, bud (what is emerging)\, and blossom (what is flourishing)—a practice that fosters vulnerability\, reflection\, and community. \nFrom there\, we’ll move into somatic practices to activate the sacral chakra and stir the kundalini life force within. These gentle yet powerful movements\, breathwork\, and energetic activations are designed to reconnect you with your body’s wisdom\, sensuality\, and vitality. \nWe’ll complete with a closing share and integration\, sealing of the space with gratitude. \nThis class is for any woman seeking deeper embodiment\, emotional release\, sisterhood\, and a rekindling of her feminine power. \nCome as you are—leave more of who you are. \n🜃 Location: Bozeman Spiritual Society\, 2100 Fairway Drive\, #102\, Bozeman\n🕖 Time: Wednesdays from 9-10am\n🌀 Bring: Comfortable clothing\, water\, a journal\, and an open heart
URL:https://bozemanspiritualsociety.org/event/feminine-activation-class-4/
LOCATION:Bozeman Spiritual Society\, 2100 Fairway Dr\, Room 102\, Bozeman\, MT\, 59715\, United States
CATEGORIES:Workshop
ATTACH;FMTTYPE=image/jpeg:https://bozemanspiritualsociety.org/wp-content/uploads/2025/07/Feminine-Activation-e1753559857975.jpg
END:VEVENT
BEGIN:VEVENT
DTSTART;TZID=America/Denver:20251029T090000
DTEND;TZID=America/Denver:20251029T100000
DTSTAMP:20260419T184208
CREATED:20250906T203559Z
LAST-MODIFIED:20250906T203559Z
UID:722-1761728400-1761732000@bozemanspiritualsociety.org
SUMMARY:Feminine Activation Class
DESCRIPTION:Feminine Activation Class (9-10AM every Wednesday) \n\nAn Embodied Journey into Feminine Awakening \nStep into a sacred space of connection\, authenticity\, and awakening. The Feminine Activation Class is a mini-ceremonial experience designed to ignite your inner fire\, honor your personal journey\, and awaken the sensual\, creative energy that resides in your womb and heart. \nIn this intimate class\, we’ll begin by co-creating sacred space and grounding into presence. Through the ritual of the “Rose Share\,” each woman will be invited to speak her thorn (current challenge)\, bud (what is emerging)\, and blossom (what is flourishing)—a practice that fosters vulnerability\, reflection\, and community. \nFrom there\, we’ll move into somatic practices to activate the sacral chakra and stir the kundalini life force within. These gentle yet powerful movements\, breathwork\, and energetic activations are designed to reconnect you with your body’s wisdom\, sensuality\, and vitality. \nWe’ll complete with a closing share and integration\, sealing of the space with gratitude. \nThis class is for any woman seeking deeper embodiment\, emotional release\, sisterhood\, and a rekindling of her feminine power. \nCome as you are—leave more of who you are. \n🜃 Location: Bozeman Spiritual Society\, 2100 Fairway Drive\, #102\, Bozeman\n🕖 Time: Wednesdays from 9-10am\n🌀 Bring: Comfortable clothing\, water\, a journal\, and an open heart
URL:https://bozemanspiritualsociety.org/event/feminine-activation-class-5/
LOCATION:Bozeman Spiritual Society\, 2100 Fairway Dr\, Room 102\, Bozeman\, MT\, 59715\, United States
CATEGORIES:Workshop
ATTACH;FMTTYPE=image/jpeg:https://bozemanspiritualsociety.org/wp-content/uploads/2025/07/Feminine-Activation-e1753559857975.jpg
ORGANIZER;CN="Bozeman Spiritual Society":MAILTO:bozemanspiritualsociety@gmail.com
END:VEVENT
END:VCALENDAR