BEGIN:VCALENDAR
VERSION:2.0
PRODID:-//Bozeman Spiritual Society - ECPv6.15.20//NONSGML v1.0//EN
CALSCALE:GREGORIAN
METHOD:PUBLISH
X-WR-CALNAME:Bozeman Spiritual Society
X-ORIGINAL-URL:https://bozemanspiritualsociety.org
X-WR-CALDESC:Events for Bozeman Spiritual Society
REFRESH-INTERVAL;VALUE=DURATION:PT1H
X-Robots-Tag:noindex
X-PUBLISHED-TTL:PT1H
BEGIN:VTIMEZONE
TZID:America/Denver
BEGIN:DAYLIGHT
TZOFFSETFROM:-0700
TZOFFSETTO:-0600
TZNAME:MDT
DTSTART:20240310T090000
END:DAYLIGHT
BEGIN:STANDARD
TZOFFSETFROM:-0600
TZOFFSETTO:-0700
TZNAME:MST
DTSTART:20241103T080000
END:STANDARD
BEGIN:DAYLIGHT
TZOFFSETFROM:-0700
TZOFFSETTO:-0600
TZNAME:MDT
DTSTART:20250309T090000
END:DAYLIGHT
BEGIN:STANDARD
TZOFFSETFROM:-0600
TZOFFSETTO:-0700
TZNAME:MST
DTSTART:20251102T080000
END:STANDARD
BEGIN:DAYLIGHT
TZOFFSETFROM:-0700
TZOFFSETTO:-0600
TZNAME:MDT
DTSTART:20260308T090000
END:DAYLIGHT
BEGIN:STANDARD
TZOFFSETFROM:-0600
TZOFFSETTO:-0700
TZNAME:MST
DTSTART:20261101T080000
END:STANDARD
END:VTIMEZONE
BEGIN:VEVENT
DTSTART;TZID=America/Denver:20251129T163000
DTEND;TZID=America/Denver:20251129T183000
DTSTAMP:20260419T112812
CREATED:20251120T143136Z
LAST-MODIFIED:20251120T143136Z
UID:796-1764433800-1764441000@bozemanspiritualsociety.org
SUMMARY:Social Meet & Greet
DESCRIPTION:Saturday 29th of November 430-630pm FREE EVENT \n – Tea & Coffee provided. Snacks are welcome \nCome on down to the newly renovated BSS Studio for a casual and intimate gathering to discuss some of the exciting things that are happening for the BSS community. Hosted by our newest member Lauren\, who has recently settled in Bozeman from Brisbane\, Australia. Lauren is our resident Psychic Medium & Teacher\, currently taking in person Readings and Mentoring along with facilitating her Psychic School Workshops in the studio. Get to know Lauren and what she offers as a practitioner\, through a fun guided demonstration and open discussion. The intention of social gatherings such as these is to better understand how best to facilitate and support locals looking for regular and structured psychic development and wellness. \nPlease reach out to show your interest either via the event on the BSS Facebook group\, or via messaging Lauren directly on Facebook or email etherictide@gmail.com \n  \n \nLauren is a Psychic Medium\, Medical Intuitive\, Holistic Life Coach\, and Teacher. For the past decade\, she has been operating her intuitive business\, Etheric Tide\, in Australia\, and now resides in the Bozeman area. \nLauren is taking in-person Readings and Mentorship Program clients in the BSS studio Mondays and Fridays along with her Psychic School  classes Monday nights and weekends. Lauren provides insight and tools to shift your core belief systems\, ultimately shifting your consciousness to align with a life you would like to experience\, by highlighting what current energies are manifesting. Her intention is to guide others to their own intuitive goals in a grounded and ethical way. \nBookings are essential either directly via her website\, Facebook\, or email etherictide@gmail.com
URL:https://bozemanspiritualsociety.org/event/social-meet-greet/
LOCATION:Bozeman Spiritual Society\, 2100 Fairway Dr\, Room 102\, Bozeman\, MT\, 59715\, United States
CATEGORIES:Social
ATTACH;FMTTYPE=image/jpeg:https://bozemanspiritualsociety.org/wp-content/uploads/2025/11/MEET-AND-GREET-29TH-NOV-scaled-e1763515164659.jpg
ORGANIZER;CN="Lauren Sietzema":MAILTO:etherictide@gmail.com
END:VEVENT
END:VCALENDAR