BEGIN:VCALENDAR
VERSION:2.0
PRODID:-//Bozeman Spiritual Society - ECPv6.15.20//NONSGML v1.0//EN
CALSCALE:GREGORIAN
METHOD:PUBLISH
X-ORIGINAL-URL:https://bozemanspiritualsociety.org
X-WR-CALDESC:Events for Bozeman Spiritual Society
REFRESH-INTERVAL;VALUE=DURATION:PT1H
X-Robots-Tag:noindex
X-PUBLISHED-TTL:PT1H
BEGIN:VTIMEZONE
TZID:America/Denver
BEGIN:DAYLIGHT
TZOFFSETFROM:-0700
TZOFFSETTO:-0600
TZNAME:MDT
DTSTART:20240310T090000
END:DAYLIGHT
BEGIN:STANDARD
TZOFFSETFROM:-0600
TZOFFSETTO:-0700
TZNAME:MST
DTSTART:20241103T080000
END:STANDARD
BEGIN:DAYLIGHT
TZOFFSETFROM:-0700
TZOFFSETTO:-0600
TZNAME:MDT
DTSTART:20250309T090000
END:DAYLIGHT
BEGIN:STANDARD
TZOFFSETFROM:-0600
TZOFFSETTO:-0700
TZNAME:MST
DTSTART:20251102T080000
END:STANDARD
BEGIN:DAYLIGHT
TZOFFSETFROM:-0700
TZOFFSETTO:-0600
TZNAME:MDT
DTSTART:20260308T090000
END:DAYLIGHT
BEGIN:STANDARD
TZOFFSETFROM:-0600
TZOFFSETTO:-0700
TZNAME:MST
DTSTART:20261101T080000
END:STANDARD
END:VTIMEZONE
BEGIN:VEVENT
DTSTART;TZID=America/Denver:20251003T190000
DTEND;TZID=America/Denver:20251003T210000
DTSTAMP:20260419T132308
CREATED:20250920T225835Z
LAST-MODIFIED:20250920T230840Z
UID:755-1759518000-1759525200@bozemanspiritualsociety.org
SUMMARY:Tantra Date Night: The 3 Keys For a Sacred Sex Life
DESCRIPTION:Friday\, October 3\, 2025\n\n\n\n7-9PM\, Bozeman Spiritual Society\, 2100 Fairway Drive #102  \n\n\n\nAn Experiential Evening of Breath\, Movement\, and Sound \n\n💸 Cost: $25 Suggested Contribution \n\n\n\n \n✨ For: Couples\, Friends\, Solos (and all who respect boundaries) \n\n\n \n\n🧘‍♀️ Bring: Comfortable clothing\, water\, a journal\, and an open heart \n\nRSVP 🙂 \n\n\n\n\n\n\n\n \n\n\n\n\n\nDownload PDF flyer \n\n\n\n\n\n\n\nTantra Date Night\n\n\n\nThe 3 Keys For a Sacred Sex Life\n\n\n\n \nFacilitated by Christine Renee and Jim Macdonald \n\n\n \nAn Experiential Evening of Breath\, Movement\, and Sound \n\n\n\nStep into a heart-centered\, judgment-free space where sacred connection begins—with yourself and others. Tantra Date Night is a playful\, soulful\, and powerful in-person experience designed to introduce the 3 Keys of Tantra—Breath\, Movement\, and Sound—in a way that’s accessible\, embodied\, and deeply nourishing. \n\n\n \nWhether you’re solo\, partnered\, or bringing a friend\, this evening invites you to explore intimacy and energetic connection in a respectful\, non-sexual container. All are welcome—as long as respect\, curiosity\, and healthy boundaries are honored. \n\n\n \nWhat to Expect: \n\n\n \n✨ Opening Sacred Space and Heart Salutation \n\n\n \n✨ A brief intro to Tantra and the 3 Keys \n\n\n \n✨ Guided somatic experiences in breath\, movement\, and sound \n\n\n \n✨ Connection practices to deepen self-awareness and presence \n\n\n \n✨ Gentle partner or group practices (with consent always honored) \n\n\n \n✨ Closing integration\, journaling\, and heart-centered reflection \n\n\n \nWhether you’re just Tantra-curious or seeking deeper intimacy in your life\, Tantra Date Night offers a taste of what’s possible when you awaken to the sacred within and between.\n\n\n \n✨ This event also offers a sneak peek of our upcoming 5-Week Online Masterclass: Creating a Sacred Sex Life Through the 3 Keys of Tantra (details soon\, offered through Christine’s Moon Rising Shamanic Institute) \n\n\n \nWe can’t wait to welcome you into this sacred space. (Keep scrolling a little to register :)) \n\n\n\n\n\n\n\n \n\n\n\n \n\n 
URL:https://bozemanspiritualsociety.org/event/tantra-date-night-the-3-keys-for-a-sacred-sex-life/
LOCATION:Bozeman Spiritual Society\, 2100 Fairway Dr\, Room 102\, Bozeman\, MT\, 59715\, United States
CATEGORIES:Social,Workshop
ATTACH;FMTTYPE=image/jpeg:https://bozemanspiritualsociety.org/wp-content/uploads/2025/09/Tanta-Date-Night-10-3-2025-e1758408993235.jpg
ORGANIZER;CN="Christine Renee and Jim Macdonald":MAILTO:jsmacdonaldjr@gmail.com
END:VEVENT
END:VCALENDAR