BEGIN:VCALENDAR
VERSION:2.0
PRODID:-//Bozeman Spiritual Society - ECPv6.15.20//NONSGML v1.0//EN
CALSCALE:GREGORIAN
METHOD:PUBLISH
X-WR-CALNAME:Bozeman Spiritual Society
X-ORIGINAL-URL:https://bozemanspiritualsociety.org
X-WR-CALDESC:Events for Bozeman Spiritual Society
REFRESH-INTERVAL;VALUE=DURATION:PT1H
X-Robots-Tag:noindex
X-PUBLISHED-TTL:PT1H
BEGIN:VTIMEZONE
TZID:America/Denver
BEGIN:DAYLIGHT
TZOFFSETFROM:-0700
TZOFFSETTO:-0600
TZNAME:MDT
DTSTART:20240310T090000
END:DAYLIGHT
BEGIN:STANDARD
TZOFFSETFROM:-0600
TZOFFSETTO:-0700
TZNAME:MST
DTSTART:20241103T080000
END:STANDARD
BEGIN:DAYLIGHT
TZOFFSETFROM:-0700
TZOFFSETTO:-0600
TZNAME:MDT
DTSTART:20250309T090000
END:DAYLIGHT
BEGIN:STANDARD
TZOFFSETFROM:-0600
TZOFFSETTO:-0700
TZNAME:MST
DTSTART:20251102T080000
END:STANDARD
BEGIN:DAYLIGHT
TZOFFSETFROM:-0700
TZOFFSETTO:-0600
TZNAME:MDT
DTSTART:20260308T090000
END:DAYLIGHT
BEGIN:STANDARD
TZOFFSETFROM:-0600
TZOFFSETTO:-0700
TZNAME:MST
DTSTART:20261101T080000
END:STANDARD
END:VTIMEZONE
BEGIN:VEVENT
DTSTART;TZID=America/Denver:20250814T180000
DTEND;TZID=America/Denver:20250814T210000
DTSTAMP:20260419T165939
CREATED:20250803T212015Z
LAST-MODIFIED:20250803T212103Z
UID:695-1755194400-1755205200@bozemanspiritualsociety.org
SUMMARY:Community Potluck
DESCRIPTION:Thursday\, August 14\, 6-9PM – The Bozeman Spiritual Society cordially invites you to join us for an evening of community connection and vibrant celebration at our potluck. The festivities will take place at our location – 2100 Fairway Drive\, There is ample space and parking for everyone to gather comfortably. Prepare for a delightful evening filled with music to uplift your spirit\, dancing to move your body\, engaging games to spark joy and connection\, and captivating live demonstrations showcasing a variety of spiritual and wellness practices. These demonstrations will offer insights into different modalities and techniques\, providing opportunities for learning and inspiration. It’s an occasion designed to nurture connections\, share experiences\, and enjoy the warmth of our community. We truly hope you’ll be able to grace us with your presence and join in the festivities. \nThe event is free. Just show up and bring your dish to share :).
URL:https://bozemanspiritualsociety.org/event/community-potluck/
LOCATION:Bozeman Spiritual Society\, 2100 Fairway Dr\, Room 102\, Bozeman\, MT\, 59715\, United States
CATEGORIES:Social
ATTACH;FMTTYPE=image/jpeg:https://bozemanspiritualsociety.org/wp-content/uploads/2025/08/BSS-potluck-generic-e1754255787669.jpg
ORGANIZER;CN="Bozeman Spiritual Society":MAILTO:bozemanspiritualsociety@gmail.com
END:VEVENT
END:VCALENDAR